BEGIN:VCALENDAR
VERSION:2.0
PRODID:-//Community Music School Of Springfield - ECPv6.15.20//NONSGML v1.0//EN
CALSCALE:GREGORIAN
METHOD:PUBLISH
X-ORIGINAL-URL:https://www.communitymusicschool.com
X-WR-CALDESC:Events for Community Music School Of Springfield
REFRESH-INTERVAL;VALUE=DURATION:PT1H
X-Robots-Tag:noindex
X-PUBLISHED-TTL:PT1H
BEGIN:VTIMEZONE
TZID:America/New_York
BEGIN:DAYLIGHT
TZOFFSETFROM:-0500
TZOFFSETTO:-0400
TZNAME:EDT
DTSTART:20250309T070000
END:DAYLIGHT
BEGIN:STANDARD
TZOFFSETFROM:-0400
TZOFFSETTO:-0500
TZNAME:EST
DTSTART:20251102T060000
END:STANDARD
BEGIN:DAYLIGHT
TZOFFSETFROM:-0500
TZOFFSETTO:-0400
TZNAME:EDT
DTSTART:20260308T070000
END:DAYLIGHT
BEGIN:STANDARD
TZOFFSETFROM:-0400
TZOFFSETTO:-0500
TZNAME:EST
DTSTART:20261101T060000
END:STANDARD
BEGIN:DAYLIGHT
TZOFFSETFROM:-0500
TZOFFSETTO:-0400
TZNAME:EDT
DTSTART:20270314T070000
END:DAYLIGHT
BEGIN:STANDARD
TZOFFSETFROM:-0400
TZOFFSETTO:-0500
TZNAME:EST
DTSTART:20271107T060000
END:STANDARD
END:VTIMEZONE
BEGIN:VEVENT
DTSTART;TZID=America/New_York:20260508T183000
DTEND;TZID=America/New_York:20260508T200000
DTSTAMP:20260423T115649
CREATED:20260406T191935Z
LAST-MODIFIED:20260410T205951Z
UID:10255-1778265000-1778270400@www.communitymusicschool.com
SUMMARY:Jazz In Springfield
DESCRIPTION:Join us for a journey through the history of jazz from Early New Orleans Blues to Funk rock tunes performed by a jazz ensemble comprised of Springfield-native young musicians. Expect an afternoon of instrumental and vocal stylings presented at the historic Robyn Newhouse Hall at Community Music School of Springfield.\nTickets are on a sliding scale of $0 – $30 —  please pay what you can! \nThese Springfield musicians are prepared to present an hour and a half of curated jazz history and evolution from 6:30pm to 8pm on Friday\, May 8th at 127 State Street\, Springfield\, MA with doors opening at 6 pm. \n \nThis jazz ensemble will be led by CMSS’s own Sonido Musica Teaching Artists\, Alton Skinner\, and Richard Parris Scott\, and entirely made up of Springfield Public Schools high school students and graduates who have exhibited mastery of their instruments and dedication to their craft. This event is in part prompted by the META Fellowship Project\, which Alton and Parris are in the 2025-2026 cohort for\, and will be presented at the end-of-year META Fellowship showcase this May in Boston to honor the work\, impact\, and music community of Springfield. \n\n\n \n 
URL:https://www.communitymusicschool.com/event/jazz-in-springfield/
LOCATION:Robyn Newhouse Hall\, 127 State Street\, Springfield\, MA\, 01103\, United States
CATEGORIES:Community,Concert,Special Event
END:VEVENT
END:VCALENDAR