BEGIN:VCALENDAR
VERSION:2.0
PRODID:-//Community Music School Of Springfield - ECPv6.15.20//NONSGML v1.0//EN
CALSCALE:GREGORIAN
METHOD:PUBLISH
X-WR-CALNAME:Community Music School Of Springfield
X-ORIGINAL-URL:https://www.communitymusicschool.com
X-WR-CALDESC:Events for Community Music School Of Springfield
REFRESH-INTERVAL;VALUE=DURATION:PT1H
X-Robots-Tag:noindex
X-PUBLISHED-TTL:PT1H
BEGIN:VTIMEZONE
TZID:America/New_York
BEGIN:DAYLIGHT
TZOFFSETFROM:-0500
TZOFFSETTO:-0400
TZNAME:EDT
DTSTART:20240310T070000
END:DAYLIGHT
BEGIN:STANDARD
TZOFFSETFROM:-0400
TZOFFSETTO:-0500
TZNAME:EST
DTSTART:20241103T060000
END:STANDARD
BEGIN:DAYLIGHT
TZOFFSETFROM:-0500
TZOFFSETTO:-0400
TZNAME:EDT
DTSTART:20250309T070000
END:DAYLIGHT
BEGIN:STANDARD
TZOFFSETFROM:-0400
TZOFFSETTO:-0500
TZNAME:EST
DTSTART:20251102T060000
END:STANDARD
BEGIN:DAYLIGHT
TZOFFSETFROM:-0500
TZOFFSETTO:-0400
TZNAME:EDT
DTSTART:20260308T070000
END:DAYLIGHT
BEGIN:STANDARD
TZOFFSETFROM:-0400
TZOFFSETTO:-0500
TZNAME:EST
DTSTART:20261101T060000
END:STANDARD
END:VTIMEZONE
BEGIN:VEVENT
DTSTART;TZID=America/New_York:20250503T173000
DTEND;TZID=America/New_York:20250503T213000
DTSTAMP:20260424T010832
CREATED:20240710T213746Z
LAST-MODIFIED:20250915T214346Z
UID:8516-1746293400-1746307800@www.communitymusicschool.com
SUMMARY:Spring Gala
DESCRIPTION:  \n\n\n\n \n\nCommunity Music School of Springfield’s Spring Gala is our largest annual fundraiser for our financial aid and scholarship program. This year\, we will be celebrating the Arc of Music for Life! \nSilent Auction\nOur online silent auction is open now! Browse items or start bidding to support our cause here.\n \n\n\nDonate or Purchase Tickets\nPurchase your Spring Gala tickets here. We do not issue physical tickets\, but your names will be added to our guest list. \nUnable to attend but still want to contribute? We will gratefully accept your donation here.\n\nIf you would like to attend both the CMSS Spring Gala and the Springfield Symphony Orchestra concert this evening:\nWe will be offering a complimentary shuttle from CMSS to the Symphony shortly after 7pm\, which will bring you back to CMSS after the concert. Please let us know if you would like to take the shuttle by emailing Sierra at ssimmons@communitymusicschool.com.\nSpring Gala Sponsors\nLead Sponsor:\nComcast\n  \nMelody Sponsor:\nDeliso Financial Services\n  \nHarmony Sponsors:\nBaystate Health\nFlorence Bank\nFlowers\, Flowers!\nLynne D. and Gilbert A. Haberman Family Charitable Fund\nPare Corporation\nPeoplesBank\nRazzmatazz Foundation\nThe Republican\nSt. Germain Investments\n  \nRhythm Sponsors:\nThe Antonacci Family Foundation\nBank of America Private Bank\nThe Collins Companies\nCountry Bank\nDiane Troderman\nThe Dowd Agencies\nLaPier\, Dillon and Associates\, PC\nMartin Luther King\, Jr. Family Services\nNew England Orthopedic Surgeons\nTechnically Amazing IT\nUMass Berthiaume Center for Entrepreneurship\nThe Valania Family\nVentry Associates\n\nEvent Sponsorship Opportunities\nSponsor CMSS’ Spring Gala to expand access to high quality\, equitable\, music education through financial aid and free community programming!    \nSee Sponsorship Opportunities\nYou may make your sponsorship contribution online here\, by phone at 413-750-9565\, or by mail to Community Music School of Springfield\, 127 State Street\, Springfield\, MA 01103. \n\n\n\n\n 
URL:https://www.communitymusicschool.com/event/gala2025/
LOCATION:Robyn Newhouse Hall\, 127 State Street\, Springfield\, MA\, 01103\, United States
CATEGORIES:Special Event
END:VEVENT
END:VCALENDAR